BEGIN:VCALENDAR
VERSION:2.0
PRODID:-//Mount Rogers Health District - ECPv6.15.20//NONSGML v1.0//EN
CALSCALE:GREGORIAN
METHOD:PUBLISH
X-ORIGINAL-URL:https://www.vdh.virginia.gov/mount-rogers
X-WR-CALDESC:Events for Mount Rogers Health District
REFRESH-INTERVAL;VALUE=DURATION:PT1H
X-Robots-Tag:noindex
X-PUBLISHED-TTL:PT1H
BEGIN:VTIMEZONE
TZID:America/New_York
BEGIN:DAYLIGHT
TZOFFSETFROM:-0500
TZOFFSETTO:-0400
TZNAME:EDT
DTSTART:20250309T070000
END:DAYLIGHT
BEGIN:STANDARD
TZOFFSETFROM:-0400
TZOFFSETTO:-0500
TZNAME:EST
DTSTART:20251102T060000
END:STANDARD
BEGIN:DAYLIGHT
TZOFFSETFROM:-0500
TZOFFSETTO:-0400
TZNAME:EDT
DTSTART:20260308T070000
END:DAYLIGHT
BEGIN:STANDARD
TZOFFSETFROM:-0400
TZOFFSETTO:-0500
TZNAME:EST
DTSTART:20261101T060000
END:STANDARD
BEGIN:DAYLIGHT
TZOFFSETFROM:-0500
TZOFFSETTO:-0400
TZNAME:EDT
DTSTART:20270314T070000
END:DAYLIGHT
BEGIN:STANDARD
TZOFFSETFROM:-0400
TZOFFSETTO:-0500
TZNAME:EST
DTSTART:20271107T060000
END:STANDARD
END:VTIMEZONE
BEGIN:VEVENT
DTSTART;TZID=America/New_York:20260427T100000
DTEND;TZID=America/New_York:20260427T140000
DTSTAMP:20260424T142130
CREATED:20260317T150307Z
LAST-MODIFIED:20260317T150307Z
UID:2640-1777284000-1777298400@www.vdh.virginia.gov
SUMMARY:Woodlawn School Apartments
DESCRIPTION:
URL:https://www.vdh.virginia.gov/mount-rogers/events/woodlawn-school-apartments-2/
LOCATION:Woodlawn School Apartments\, 745 Woodlawn Road\, Woodlawn\, VA\, 24381\, United States
CATEGORIES:Bland, Carroll, Galax, Grayson, Smyth, & Wythe Schedule
END:VEVENT
BEGIN:VEVENT
DTSTART;TZID=America/New_York:20260430T100000
DTEND;TZID=America/New_York:20260430T140000
DTSTAMP:20260424T142130
CREATED:20260408T142311Z
LAST-MODIFIED:20260408T142311Z
UID:2726-1777543200-1777557600@www.vdh.virginia.gov
SUMMARY:First United Methodist Church - Marion
DESCRIPTION:
URL:https://www.vdh.virginia.gov/mount-rogers/events/first-united-methodist-church-marion-2/
LOCATION:First United Methodist Church\, 115 South Church Street\, Marion\, 24354\, United States
CATEGORIES:Bland, Carroll, Galax, Grayson, Smyth, & Wythe Schedule
END:VEVENT
BEGIN:VEVENT
DTSTART;TZID=America/New_York:20260504T100000
DTEND;TZID=America/New_York:20260504T140000
DTSTAMP:20260424T142130
CREATED:20250822T150308Z
LAST-MODIFIED:20260420T135847Z
UID:2176-1777888800-1777903200@www.vdh.virginia.gov
SUMMARY:Open Door Café - Wytheville
DESCRIPTION:
URL:https://www.vdh.virginia.gov/mount-rogers/events/open-door-cafe-wythe/
LOCATION:Open Door Café\, 650 W Main Street\, Wytheville\, VA\, 24382\, United States
CATEGORIES:Bland, Carroll, Galax, Grayson, Smyth, & Wythe Schedule
END:VEVENT
BEGIN:VEVENT
DTSTART;TZID=America/New_York:20260506T100000
DTEND;TZID=America/New_York:20260506T140000
DTSTAMP:20260424T142130
CREATED:20251008T154812Z
LAST-MODIFIED:20260420T135933Z
UID:2309-1778061600-1778076000@www.vdh.virginia.gov
SUMMARY:Bland Fairgrounds
DESCRIPTION:
URL:https://www.vdh.virginia.gov/mount-rogers/events/bland-fairgrounds/
LOCATION:Bland Fairgrounds\, Fairground St.\, Bland\, VA\, 24315\, United States
CATEGORIES:Bland, Carroll, Galax, Grayson, Smyth, & Wythe Schedule
END:VEVENT
BEGIN:VEVENT
DTSTART;TZID=America/New_York:20260507T100000
DTEND;TZID=America/New_York:20260507T140000
DTSTAMP:20260424T142130
CREATED:20251224T162540Z
LAST-MODIFIED:20260420T140143Z
UID:2411-1778148000-1778162400@www.vdh.virginia.gov
SUMMARY:First United Methodist Church - Marion
DESCRIPTION:No medical and no counseling services.
URL:https://www.vdh.virginia.gov/mount-rogers/events/sweetwater-restaurant/
LOCATION:First United Methodist Church\, 115 South Church Street\, Marion\, 24354\, United States
CATEGORIES:Bland, Carroll, Galax, Grayson, Smyth, & Wythe Schedule
END:VEVENT
BEGIN:VEVENT
DTSTART;TZID=America/New_York:20260511T100000
DTEND;TZID=America/New_York:20260511T140000
DTSTAMP:20260424T142130
CREATED:20250915T155550Z
LAST-MODIFIED:20260420T140225Z
UID:2274-1778493600-1778508000@www.vdh.virginia.gov
SUMMARY:Woodlawn School Apartments
DESCRIPTION:
URL:https://www.vdh.virginia.gov/mount-rogers/events/woodlawn-school-apartments-3/
LOCATION:Woodlawn School Apartments\, 745 Woodlawn Road\, Woodlawn\, VA\, 24381\, United States
CATEGORIES:Bland, Carroll, Galax, Grayson, Smyth, & Wythe Schedule
END:VEVENT
BEGIN:VEVENT
DTSTART;TZID=America/New_York:20260513T100000
DTEND;TZID=America/New_York:20260513T140000
DTSTAMP:20260424T142130
CREATED:20250822T150217Z
LAST-MODIFIED:20260420T140334Z
UID:2170-1778666400-1778680800@www.vdh.virginia.gov
SUMMARY:Old Walgreens - Saltville
DESCRIPTION:
URL:https://www.vdh.virginia.gov/mount-rogers/events/old-walgreens-saltville-2/
LOCATION:Old Walgreens\, 113 E Main St.\, Saltville\, VA\, 24370\, United States
CATEGORIES:Bland, Carroll, Galax, Grayson, Smyth, & Wythe Schedule
END:VEVENT
BEGIN:VEVENT
DTSTART;TZID=America/New_York:20260518T100000
DTEND;TZID=America/New_York:20260518T140000
DTSTAMP:20260424T142130
CREATED:20260420T140522Z
LAST-MODIFIED:20260420T140522Z
UID:2802-1779098400-1779112800@www.vdh.virginia.gov
SUMMARY:Open Door Café - Wytheville
DESCRIPTION:
URL:https://www.vdh.virginia.gov/mount-rogers/events/open-door-cafe-wytheville-3/
LOCATION:Open Door Café\, 650 W Main Street\, Wytheville\, VA\, 24382\, United States
CATEGORIES:Bland, Carroll, Galax, Grayson, Smyth, & Wythe Schedule
END:VEVENT
BEGIN:VEVENT
DTSTART;TZID=America/New_York:20260519T100000
DTEND;TZID=America/New_York:20260519T140000
DTSTAMP:20260424T142130
CREATED:20260420T140651Z
LAST-MODIFIED:20260420T140651Z
UID:2804-1779184800-1779199200@www.vdh.virginia.gov
SUMMARY:The Fries Depot
DESCRIPTION:
URL:https://www.vdh.virginia.gov/mount-rogers/events/the-fries-depot-2/
LOCATION:The Fries Depot\, 510 Riverview Avenue\, Fries\, VA\, 24330\, United States
CATEGORIES:Bland, Carroll, Galax, Grayson, Smyth, & Wythe Schedule
END:VEVENT
BEGIN:VEVENT
DTSTART;TZID=America/New_York:20260521T100000
DTEND;TZID=America/New_York:20260521T140000
DTSTAMP:20260424T142130
CREATED:20260420T140839Z
LAST-MODIFIED:20260420T140839Z
UID:2807-1779357600-1779372000@www.vdh.virginia.gov
SUMMARY:First United Methodist Church - Marion
DESCRIPTION:
URL:https://www.vdh.virginia.gov/mount-rogers/events/first-united-methodist-church-marion-3/
LOCATION:First United Methodist Church\, 115 South Church Street\, Marion\, 24354\, United States
CATEGORIES:Bland, Carroll, Galax, Grayson, Smyth, & Wythe Schedule
END:VEVENT
BEGIN:VEVENT
DTSTART;TZID=America/New_York:20260526T100000
DTEND;TZID=America/New_York:20260526T140000
DTSTAMP:20260424T142130
CREATED:20251008T161046Z
LAST-MODIFIED:20260420T141033Z
UID:2316-1779789600-1779804000@www.vdh.virginia.gov
SUMMARY:Galax Recreation Center
DESCRIPTION:
URL:https://www.vdh.virginia.gov/mount-rogers/events/galax-recreation-center/
LOCATION:Galax Recreation Center\, 601 S Main Street\, Galax\, VA\, 24333\, United States
CATEGORIES:Bland, Carroll, Galax, Grayson, Smyth, & Wythe Schedule
END:VEVENT
BEGIN:VEVENT
DTSTART;TZID=America/New_York:20260528T100000
DTEND;TZID=America/New_York:20260528T140000
DTSTAMP:20260424T142130
CREATED:20251229T201407Z
LAST-MODIFIED:20260420T141155Z
UID:2424-1779962400-1779976800@www.vdh.virginia.gov
SUMMARY:Free Market - Independence
DESCRIPTION:
URL:https://www.vdh.virginia.gov/mount-rogers/events/free-market-independence/
LOCATION:Free Market\, 1173 N Independence Avenue\, Independence\, VA\, 24348\, United States
CATEGORIES:Bland, Carroll, Galax, Grayson, Smyth, & Wythe Schedule
END:VEVENT
END:VCALENDAR